BEGIN:VCALENDAR
VERSION:2.0
CREATED:20260421T213302Z
PRODID:-//TrueBlue\, Inc./Equisolve Calendar v1.0//EN
METHOD:PUBLISH
BEGIN:VEVENT
UID:59c8f8f2e49e506a1e96b8498274d44f
DTSTAMP:20260423T122101Z
DTSTART:20260505T210000Z
DTEND:20260505T220000Z
SUMMARY:Q1 2026 TrueBlue Earnings Conference Call
DESCRIPTION:Q1 2026 TrueBlue Earnings Conference Call
Date: May 5\, 2026 • 5:00 pm EDT
Webcast: https://event.choruscall.com/mediaframe/webcast.html?webcastid=lHMQeuuq
END:VEVENT
END:VCALENDAR
